BEGIN:VCALENDAR
VERSION:2.0
PRODID:-//Warren County Conservation - ECPv6.15.15//NONSGML v1.0//EN
CALSCALE:GREGORIAN
METHOD:PUBLISH
X-WR-CALNAME:Warren County Conservation
X-ORIGINAL-URL:https://www.warrenccb.org
X-WR-CALDESC:Events for Warren County Conservation
REFRESH-INTERVAL;VALUE=DURATION:PT1H
X-Robots-Tag:noindex
X-PUBLISHED-TTL:PT1H
BEGIN:VTIMEZONE
TZID:America/Chicago
BEGIN:DAYLIGHT
TZOFFSETFROM:-0600
TZOFFSETTO:-0500
TZNAME:CDT
DTSTART:20220313T080000
END:DAYLIGHT
BEGIN:STANDARD
TZOFFSETFROM:-0500
TZOFFSETTO:-0600
TZNAME:CST
DTSTART:20221106T070000
END:STANDARD
BEGIN:DAYLIGHT
TZOFFSETFROM:-0600
TZOFFSETTO:-0500
TZNAME:CDT
DTSTART:20230312T080000
END:DAYLIGHT
BEGIN:STANDARD
TZOFFSETFROM:-0500
TZOFFSETTO:-0600
TZNAME:CST
DTSTART:20231105T070000
END:STANDARD
BEGIN:DAYLIGHT
TZOFFSETFROM:-0600
TZOFFSETTO:-0500
TZNAME:CDT
DTSTART:20240310T080000
END:DAYLIGHT
BEGIN:STANDARD
TZOFFSETFROM:-0500
TZOFFSETTO:-0600
TZNAME:CST
DTSTART:20241103T070000
END:STANDARD
BEGIN:DAYLIGHT
TZOFFSETFROM:-0600
TZOFFSETTO:-0500
TZNAME:CDT
DTSTART:20250309T080000
END:DAYLIGHT
BEGIN:STANDARD
TZOFFSETFROM:-0500
TZOFFSETTO:-0600
TZNAME:CST
DTSTART:20251102T070000
END:STANDARD
BEGIN:DAYLIGHT
TZOFFSETFROM:-0600
TZOFFSETTO:-0500
TZNAME:CDT
DTSTART:20260308T080000
END:DAYLIGHT
BEGIN:STANDARD
TZOFFSETFROM:-0500
TZOFFSETTO:-0600
TZNAME:CST
DTSTART:20261101T070000
END:STANDARD
BEGIN:DAYLIGHT
TZOFFSETFROM:-0600
TZOFFSETTO:-0500
TZNAME:CDT
DTSTART:20270314T080000
END:DAYLIGHT
BEGIN:STANDARD
TZOFFSETFROM:-0500
TZOFFSETTO:-0600
TZNAME:CST
DTSTART:20271107T070000
END:STANDARD
END:VTIMEZONE
BEGIN:VEVENT
DTSTART;TZID=America/Chicago:20260117T090000
DTEND;TZID=America/Chicago:20260117T103000
DTSTAMP:20260424T065557
CREATED:20251202T164619Z
LAST-MODIFIED:20260116T144318Z
UID:10000215-1768640400-1768645800@www.warrenccb.org
SUMMARY:*CANCELED* Winter Birding
DESCRIPTION:Calling all beginners to experienced birders! This is your chance to get out and see (or hear) what birds are out and about. Winter birding allows us to experience the quiet of the forest while listening and looking for our flighted friends. \nNo binoculars? No problem. We will provide binoculars and guidebooks\, along with some tips and tricks for birding. Have your own binoculars? Perfect\, bring them along! \n  \nRegistration will open one month before the event.
URL:https://www.warrenccb.org/event/winter-birding/
LOCATION:Woodland Mounds State Reserve\, 19587\, Kirkwood St\, Milo\, IA\, 50166\, United States
CATEGORIES:Nature,Outdoor Fun,Outdoor Recreation
END:VEVENT
BEGIN:VEVENT
DTSTART;TZID=America/Chicago:20240120T090000
DTEND;TZID=America/Chicago:20240120T100000
DTSTAMP:20260424T065557
CREATED:20231218T195434Z
LAST-MODIFIED:20240119T144524Z
UID:10000078-1705741200-1705744800@www.warrenccb.org
SUMMARY:*Canceled – Animal Tracks & Sign Hike
DESCRIPTION:Come along with a naturalist on a hike and explore the fascinating realm of tracks and signs. Unravel the secrets of who passed by\, their destination\, and whether they were sprinting or strolling. This program will equip you with the knowledge to answer all these curious questions. \n 
URL:https://www.warrenccb.org/event/animal-tracks-sign-hike/
LOCATION:Woodland Mounds State Reserve\, 19587\, Kirkwood St\, Milo\, IA\, 50166\, United States
CATEGORIES:Family Fun,Nature,Outdoor Fun,Wildlife
END:VEVENT
BEGIN:VEVENT
DTSTART;TZID=America/Chicago:20230701T080000
DTEND;TZID=America/Chicago:20230731T170000
DTSTAMP:20260424T065557
CREATED:20230525T201351Z
LAST-MODIFIED:20230525T201445Z
UID:10000048-1688198400-1690822800@www.warrenccb.org
SUMMARY:StoryWalk
DESCRIPTION:StoryWalk® is a fun idea to get communities outside and reading. Each month\, we will put new nature-themed children’s stories along trails in different parks. Stories will all be nature themed and fun to read! Please sign our guest book at the end of each StoryWalk® so we know how many people made it out.
URL:https://www.warrenccb.org/event/storywalk/
LOCATION:Woodland Mounds State Reserve\, 19587\, Kirkwood St\, Milo\, IA\, 50166\, United States
END:VEVENT
BEGIN:VEVENT
DTSTART;TZID=America/Chicago:20230121T090000
DTEND;TZID=America/Chicago:20230121T100000
DTSTAMP:20260424T065557
CREATED:20221231T202847Z
LAST-MODIFIED:20221231T203148Z
UID:10000014-1674291600-1674295200@www.warrenccb.org
SUMMARY:Season’s Hike: Winter
DESCRIPTION:This year WCCB would like to highlight each season with a hike! Our first hike will be about the wonders of winter. We will talk about the amazing things that happen in this season. This includes topics such as animal adaptations\, tree identification\, and snow. We look forward to exploring Woodland Mounds with you!
URL:https://www.warrenccb.org/event/seasons-hike-winter/
LOCATION:Woodland Mounds State Reserve\, 19587\, Kirkwood St\, Milo\, IA\, 50166\, United States
CATEGORIES:Nature,Outdoor Fun
END:VEVENT
END:VCALENDAR